BEGIN:VCALENDAR
VERSION:2.0
PRODID:-//CO4Kids - ECPv6.15.20//NONSGML v1.0//EN
CALSCALE:GREGORIAN
METHOD:PUBLISH
X-WR-CALNAME:CO4Kids
X-ORIGINAL-URL:https://co4kids.org
X-WR-CALDESC:Events for CO4Kids
REFRESH-INTERVAL;VALUE=DURATION:PT1H
X-Robots-Tag:noindex
X-PUBLISHED-TTL:PT1H
BEGIN:VTIMEZONE
TZID:America/Denver
BEGIN:DAYLIGHT
TZOFFSETFROM:-0700
TZOFFSETTO:-0600
TZNAME:MDT
DTSTART:20250309T090000
END:DAYLIGHT
BEGIN:STANDARD
TZOFFSETFROM:-0600
TZOFFSETTO:-0700
TZNAME:MST
DTSTART:20251102T080000
END:STANDARD
BEGIN:DAYLIGHT
TZOFFSETFROM:-0700
TZOFFSETTO:-0600
TZNAME:MDT
DTSTART:20260308T090000
END:DAYLIGHT
BEGIN:STANDARD
TZOFFSETFROM:-0600
TZOFFSETTO:-0700
TZNAME:MST
DTSTART:20261101T080000
END:STANDARD
BEGIN:DAYLIGHT
TZOFFSETFROM:-0700
TZOFFSETTO:-0600
TZNAME:MDT
DTSTART:20270314T090000
END:DAYLIGHT
BEGIN:STANDARD
TZOFFSETFROM:-0600
TZOFFSETTO:-0700
TZNAME:MST
DTSTART:20271107T080000
END:STANDARD
END:VTIMEZONE
BEGIN:VEVENT
DTSTART;TZID=America/Denver:20260504T120000
DTEND;TZID=America/Denver:20260504T130000
DTSTAMP:20260423T130257
CREATED:20260420T212505Z
LAST-MODIFIED:20260420T212505Z
UID:421512-1777896000-1777899600@co4kids.org
SUMMARY:Collaborative Foster Care (Jefferson Arapahoe\, and Douglas Counties)
DESCRIPTION:The Collaborative Foster Care Program recruits\, trains\, and provides ongoing support to foster families across Jefferson\, Arapahoe\, and Douglas counties (though we do have families who live in nearby counties!)\nJoin us for a virtual info meeting to learn more about foster care\, the CFCP\, and the steps to certification.\nThis is a no-commitment meeting. Come check us out and see if fostering with us is right for you\, your family\, and your support network.
URL:https://co4kids.org/info-sessions/collaborative-foster-care-jefferson-arapahoe-and-douglas-counties-4/
LOCATION:Collaborative Foster Care Program\, 1690 W Littleton Blvd\, Littleton\, 80120
CATEGORIES:Central
ATTACH;FMTTYPE=image/png:https://co4kids.org/wp-content/uploads/2026/04/Pastel-Popsicles-Dessert-Party-Facebook-Cover-1.png
ORGANIZER;CN="Collaborative Foster Care Program":MAILTO:cfcp@arapahoegov.com
END:VEVENT
BEGIN:VEVENT
DTSTART;TZID=America/Denver:20260505T120000
DTEND;TZID=America/Denver:20260505T130000
DTSTAMP:20260423T130257
CREATED:20260218T172900Z
LAST-MODIFIED:20260218T172900Z
UID:366842-1777982400-1777986000@co4kids.org
SUMMARY:Virtual Lunch and Learn Foster Information Session
DESCRIPTION:Grab your lunch and join us for a relaxed Virtual Lunch and Learn where we’ll explore the rewarding journey of becoming a foster parent or foster-to-adopt parent. \nWhether you’re ready to take the next step or simply curious\, this is a great opportunity to learn who we are\, discover the steps to getting licensed\, explore the different ways you can make a difference\, and get answers to your questions in a casual\, welcoming space. \nNo pressure! Just good conversation\, helpful info\, and an opportunity to make a difference in a child’s life. We’d love to see you there!\n#StartTheJourney #FosterTheFuture #TogetherForChildren
URL:https://co4kids.org/info-sessions/virtual-lunch-and-learn-foster-information-session-36/
CATEGORIES:Central,Northern,Northwest,Southeast,Southern,Southwest
ATTACH;FMTTYPE=image/png:https://co4kids.org/wp-content/uploads/2026/02/Untitled-design-4.png
ORGANIZER;CN="Lindsey Armstrong":MAILTO:lindsey@anewworldcpa.org
END:VEVENT
BEGIN:VEVENT
DTSTART;TZID=America/Denver:20260505T180000
DTEND;TZID=America/Denver:20260505T190000
DTSTAMP:20260423T130257
CREATED:20260417T165553Z
LAST-MODIFIED:20260417T165553Z
UID:418863-1778004000-1778007600@co4kids.org
SUMMARY:Foster Care  Information  Session (Unaccompanied Children) Denver- Lutheran Family Services Rocky Mountains
DESCRIPTION:Join us for an online session to find out how YOU can make a difference in the life of a child! We will talk about our different programs and how you can dramatically impact the life of a child needing a stable home. There will also be plenty of time to ask your own questions and find out more about the process of becoming a foster parent. Looking forward to meeting you!
URL:https://co4kids.org/info-sessions/foster-care-information-session-unaccompanied-children-denver-lutheran-family-services-rocky-mountains-8/
CATEGORIES:Central
ATTACH;FMTTYPE=image/jpeg:https://co4kids.org/wp-content/uploads/2026/04/Become-A-Foster-Parent_Web-Banner_sm-1-3.jpg
ORGANIZER;CN="Lutheran Family Services Rocky Mountains":MAILTO:fostercentral@lfsrm.org
END:VEVENT
BEGIN:VEVENT
DTSTART;TZID=America/Denver:20260506T120000
DTEND;TZID=America/Denver:20260506T130000
DTSTAMP:20260423T130257
CREATED:20260420T155518Z
LAST-MODIFIED:20260420T155518Z
UID:421425-1778068800-1778072400@co4kids.org
SUMMARY:Foster Care Information Session Denver- Lutheran Family Services Rocky Mountains
DESCRIPTION:Join us for an online session to find out how YOU can make a difference in the life of a child! We will talk about our different programs and how you can dramatically impact the life of a child needing a stable home. There will also be plenty of time to ask your own questions and find out more about the process of becoming a foster parent. Looking forward to meeting you!
URL:https://co4kids.org/info-sessions/foster-care-information-session-denver-lutheran-family-services-rocky-mountains-50/
CATEGORIES:Central
ATTACH;FMTTYPE=image/jpeg:https://co4kids.org/wp-content/uploads/2026/04/Become-A-Foster-Parent_Web-Banner_sm-1-5.jpg
END:VEVENT
BEGIN:VEVENT
DTSTART;TZID=America/Denver:20260506T170000
DTEND;TZID=America/Denver:20260506T180000
DTSTAMP:20260423T130257
CREATED:20260423T181849Z
LAST-MODIFIED:20260423T181849Z
UID:422858-1778086800-1778090400@co4kids.org
SUMMARY:Foster Care (Unaccompanied Children) – Fort Collins / Northern Colorado
DESCRIPTION:Join us for an online session to find out how YOU can make a difference in the life of a child! We will talk about our different programs and how you can dramatically impact the life of a child needing a stable home. There will also be plenty of time to ask your own questions and find out more about the process of becoming a foster parent. Looking forward to meeting you!
URL:https://co4kids.org/info-sessions/foster-care-unaccompanied-children-fort-collins-northern-colorado-20/
CATEGORIES:Northern
ATTACH;FMTTYPE=image/jpeg:https://co4kids.org/wp-content/uploads/2026/04/Become-A-Foster-Parent_Web-Banner_sm-1-9.jpg
ORGANIZER;CN="Lutheran Family Services Rocky Mountains - Fort Collins":MAILTO:970-266-1788
END:VEVENT
BEGIN:VEVENT
DTSTART;TZID=America/Denver:20260512T120000
DTEND;TZID=America/Denver:20260512T130000
DTSTAMP:20260423T130257
CREATED:20260218T173007Z
LAST-MODIFIED:20260218T173007Z
UID:366873-1778587200-1778590800@co4kids.org
SUMMARY:Virtual Lunch and Learn Foster Information Session
DESCRIPTION:Grab your lunch and join us for a relaxed Virtual Lunch and Learn where we’ll explore the rewarding journey of becoming a foster parent or foster-to-adopt parent. \nWhether you’re ready to take the next step or simply curious\, this is a great opportunity to learn who we are\, discover the steps to getting licensed\, explore the different ways you can make a difference\, and get answers to your questions in a casual\, welcoming space. \nNo pressure! Just good conversation\, helpful info\, and an opportunity to make a difference in a child’s life. We’d love to see you there!\n#StartTheJourney #FosterTheFuture #TogetherForChildren
URL:https://co4kids.org/info-sessions/virtual-lunch-and-learn-foster-information-session-37/
CATEGORIES:Central,Northern,Northwest,Southeast,Southern,Southwest
ATTACH;FMTTYPE=image/png:https://co4kids.org/wp-content/uploads/2026/02/Untitled-design-5.png
ORGANIZER;CN="Lindsey Armstrong":MAILTO:lindsey@anewworldcpa.org
END:VEVENT
BEGIN:VEVENT
DTSTART;TZID=America/Denver:20260513T180000
DTEND;TZID=America/Denver:20260513T190000
DTSTAMP:20260423T130257
CREATED:20260420T212228Z
LAST-MODIFIED:20260420T212228Z
UID:421517-1778695200-1778698800@co4kids.org
SUMMARY:Collaborative Foster Care (Jefferson\, Arapahoe\, and Douglas Counties)
DESCRIPTION:The Collaborative Foster Care Program recruits\, trains\, and provides ongoing support to foster families across Jefferson\, Arapahoe\, and Douglas counties (though we do have families who live in nearby counties!)\nJoin us for a virtual info meeting to learn more about foster care\, the CFCP\, and the steps to certification.\nThis is a no-commitment meeting. Come check us out and see if fostering with us is right for you\, your family\, and your support network.
URL:https://co4kids.org/info-sessions/collaborative-foster-care-jefferson-arapahoe-and-douglas-counties/
LOCATION:Collaborative Foster Care Program\, 1690 W Littleton Blvd\, Littleton\, 80120
CATEGORIES:Central
ATTACH;FMTTYPE=image/png:https://co4kids.org/wp-content/uploads/2026/04/Pastel-Popsicles-Dessert-Party-Facebook-Cover-1-1.png
ORGANIZER;CN="Collaborative Foster Care Program":MAILTO:cfcp@arapahoegov.com
END:VEVENT
BEGIN:VEVENT
DTSTART;TZID=America/Denver:20260514T120000
DTEND;TZID=America/Denver:20260514T130000
DTSTAMP:20260423T130257
CREATED:20260420T155649Z
LAST-MODIFIED:20260420T155649Z
UID:421430-1778760000-1778763600@co4kids.org
SUMMARY:Foster Care Information Session Denver- Lutheran Family Services Rocky Mountains
DESCRIPTION:Join us for an online session to find out how YOU can make a difference in the life of a child! We will talk about our different programs and how you can dramatically impact the life of a child needing a stable home. There will also be plenty of time to ask your own questions and find out more about the process of becoming a foster parent. Looking forward to meeting you!
URL:https://co4kids.org/info-sessions/foster-care-information-session-denver-lutheran-family-services-rocky-mountains-51/
CATEGORIES:Central
ATTACH;FMTTYPE=image/jpeg:https://co4kids.org/wp-content/uploads/2026/04/Become-A-Foster-Parent_Web-Banner_sm-1-6.jpg
END:VEVENT
BEGIN:VEVENT
DTSTART;TZID=America/Denver:20260518T120000
DTEND;TZID=America/Denver:20260518T130000
DTSTAMP:20260423T130257
CREATED:20260420T155736Z
LAST-MODIFIED:20260420T155736Z
UID:421435-1779105600-1779109200@co4kids.org
SUMMARY:Foster Care Information Session Denver- Lutheran Family Services Rocky Mountains
DESCRIPTION:Join us for an online session to find out how YOU can make a difference in the life of a child! We will talk about our different programs and how you can dramatically impact the life of a child needing a stable home. There will also be plenty of time to ask your own questions and find out more about the process of becoming a foster parent. Looking forward to meeting you!
URL:https://co4kids.org/info-sessions/foster-care-information-session-denver-lutheran-family-services-rocky-mountains-52/
CATEGORIES:Central
ATTACH;FMTTYPE=image/jpeg:https://co4kids.org/wp-content/uploads/2026/04/Become-A-Foster-Parent_Web-Banner_sm-1-7.jpg
END:VEVENT
BEGIN:VEVENT
DTSTART;TZID=America/Denver:20260519T120000
DTEND;TZID=America/Denver:20260519T130000
DTSTAMP:20260423T130257
CREATED:20260218T173038Z
LAST-MODIFIED:20260218T173038Z
UID:366880-1779192000-1779195600@co4kids.org
SUMMARY:Virtual Lunch and Learn Foster Information Session
DESCRIPTION:Grab your lunch and join us for a relaxed Virtual Lunch and Learn where we’ll explore the rewarding journey of becoming a foster parent or foster-to-adopt parent. \nWhether you’re ready to take the next step or simply curious\, this is a great opportunity to learn who we are\, discover the steps to getting licensed\, explore the different ways you can make a difference\, and get answers to your questions in a casual\, welcoming space. \nNo pressure! Just good conversation\, helpful info\, and an opportunity to make a difference in a child’s life. We’d love to see you there!\n#StartTheJourney #FosterTheFuture #TogetherForChildren
URL:https://co4kids.org/info-sessions/virtual-lunch-and-learn-foster-information-session-38/
CATEGORIES:Central,Northern,Northwest,Southeast,Southern,Southwest
ATTACH;FMTTYPE=image/png:https://co4kids.org/wp-content/uploads/2026/02/Untitled-design-6.png
ORGANIZER;CN="Lindsey Armstrong":MAILTO:lindsey@anewworldcpa.org
END:VEVENT
BEGIN:VEVENT
DTSTART;TZID=America/Denver:20260526T120000
DTEND;TZID=America/Denver:20260526T130000
DTSTAMP:20260423T130257
CREATED:20260218T173106Z
LAST-MODIFIED:20260218T173106Z
UID:366887-1779796800-1779800400@co4kids.org
SUMMARY:Virtual Lunch and Learn Foster Information Session
DESCRIPTION:Grab your lunch and join us for a relaxed Virtual Lunch and Learn where we’ll explore the rewarding journey of becoming a foster parent or foster-to-adopt parent. \nWhether you’re ready to take the next step or simply curious\, this is a great opportunity to learn who we are\, discover the steps to getting licensed\, explore the different ways you can make a difference\, and get answers to your questions in a casual\, welcoming space. \nNo pressure! Just good conversation\, helpful info\, and an opportunity to make a difference in a child’s life. We’d love to see you there!\n#StartTheJourney #FosterTheFuture #TogetherForChildren
URL:https://co4kids.org/info-sessions/virtual-lunch-and-learn-foster-information-session-39/
CATEGORIES:Central,Northern,Northwest,Southeast,Southern,Southwest
ATTACH;FMTTYPE=image/png:https://co4kids.org/wp-content/uploads/2026/02/Untitled-design-7.png
ORGANIZER;CN="Lindsey Armstrong":MAILTO:lindsey@anewworldcpa.org
END:VEVENT
BEGIN:VEVENT
DTSTART;TZID=America/Denver:20260526T173000
DTEND;TZID=America/Denver:20260526T183000
DTSTAMP:20260423T130257
CREATED:20260420T155907Z
LAST-MODIFIED:20260420T155907Z
UID:421440-1779816600-1779820200@co4kids.org
SUMMARY:Foster Care Information Session Denver- Lutheran Family Services Rocky Mountains
DESCRIPTION:Join us for an online session to find out how YOU can make a difference in the life of a child! We will talk about our different programs and how you can dramatically impact the life of a child needing a stable home. There will also be plenty of time to ask your own questions and find out more about the process of becoming a foster parent. Looking forward to meeting you!
URL:https://co4kids.org/info-sessions/foster-care-information-session-denver-lutheran-family-services-rocky-mountains-53/
CATEGORIES:Central
ATTACH;FMTTYPE=image/jpeg:https://co4kids.org/wp-content/uploads/2026/04/Become-A-Foster-Parent_Web-Banner_sm-1-8.jpg
END:VEVENT
BEGIN:VEVENT
DTSTART;TZID=America/Denver:20260601T120000
DTEND;TZID=America/Denver:20260601T130000
DTSTAMP:20260423T130257
CREATED:20260420T212349Z
LAST-MODIFIED:20260420T212349Z
UID:421522-1780315200-1780318800@co4kids.org
SUMMARY:Collaborative Foster Care (Jefferson\, Arapahoe\, and Douglas Counties)
DESCRIPTION:The Collaborative Foster Care Program recruits\, trains\, and provides ongoing support to foster families across Jefferson\, Arapahoe\, and Douglas counties (though we do have families who live in nearby counties!)\nJoin us for a virtual info meeting to learn more about foster care\, the CFCP\, and the steps to certification.\nThis is a no-commitment meeting. Come check us out and see if fostering with us is right for you\, your family\, and your support network.
URL:https://co4kids.org/info-sessions/collaborative-foster-care-jefferson-arapahoe-and-douglas-counties-2/
CATEGORIES:Central
ATTACH;FMTTYPE=image/png:https://co4kids.org/wp-content/uploads/2026/04/Pastel-Popsicles-Dessert-Party-Facebook-Cover-1-2.png
ORGANIZER;CN="Collaborative Foster Care Program":MAILTO:cfcp@arapahoegov.com
END:VEVENT
BEGIN:VEVENT
DTSTART;TZID=America/Denver:20260602T183000
DTEND;TZID=America/Denver:20260602T193000
DTSTAMP:20260423T130257
CREATED:20260417T165759Z
LAST-MODIFIED:20260417T165759Z
UID:418874-1780425000-1780428600@co4kids.org
SUMMARY:Foster Care  Information  Session (Unaccompanied Children) Denver- Lutheran Family Services Rocky Mountains
DESCRIPTION:Join us for an online session to find out how YOU can make a difference in the life of a child! We will talk about our different programs and how you can dramatically impact the life of a child needing a stable home. There will also be plenty of time to ask your own questions and find out more about the process of becoming a foster parent. Looking forward to meeting you!
URL:https://co4kids.org/info-sessions/foster-care-information-session-unaccompanied-children-denver-lutheran-family-services-rocky-mountains-9/
CATEGORIES:Central
ATTACH;FMTTYPE=image/jpeg:https://co4kids.org/wp-content/uploads/2026/04/Become-A-Foster-Parent_Web-Banner_sm-1-4.jpg
ORGANIZER;CN="Lutheran Family Services Rocky Mountains":MAILTO:fostercentral@lfsrm.org
END:VEVENT
BEGIN:VEVENT
DTSTART;TZID=America/Denver:20260609T120000
DTEND;TZID=America/Denver:20260609T130000
DTSTAMP:20260423T130257
CREATED:20260218T173125Z
LAST-MODIFIED:20260218T173125Z
UID:366898-1781006400-1781010000@co4kids.org
SUMMARY:Virtual Lunch and Learn Foster Information Session
DESCRIPTION:Grab your lunch and join us for a relaxed Virtual Lunch and Learn where we’ll explore the rewarding journey of becoming a foster parent or foster-to-adopt parent. \nWhether you’re ready to take the next step or simply curious\, this is a great opportunity to learn who we are\, discover the steps to getting licensed\, explore the different ways you can make a difference\, and get answers to your questions in a casual\, welcoming space. \nNo pressure! Just good conversation\, helpful info\, and an opportunity to make a difference in a child’s life. We’d love to see you there!\n#StartTheJourney #FosterTheFuture #TogetherForChildren
URL:https://co4kids.org/info-sessions/virtual-lunch-and-learn-foster-information-session-40/
CATEGORIES:Central,Northern,Northwest,Southeast,Southern,Southwest
ATTACH;FMTTYPE=image/png:https://co4kids.org/wp-content/uploads/2026/02/Untitled-design-8.png
ORGANIZER;CN="Lindsey Armstrong":MAILTO:lindsey@anewworldcpa.org
END:VEVENT
BEGIN:VEVENT
DTSTART;TZID=America/Denver:20260610T180000
DTEND;TZID=America/Denver:20260610T190000
DTSTAMP:20260423T130257
CREATED:20260420T212422Z
LAST-MODIFIED:20260420T212422Z
UID:421529-1781114400-1781118000@co4kids.org
SUMMARY:Collaborative Foster Care (Jefferson\, Arapahoe\, and Douglas Counties)
DESCRIPTION:The Collaborative Foster Care Program recruits\, trains\, and provides ongoing support to foster families across Jefferson\, Arapahoe\, and Douglas counties (though we do have families who live in nearby counties!)\nJoin us for a virtual info meeting to learn more about foster care\, the CFCP\, and the steps to certification.\nThis is a no-commitment meeting. Come check us out and see if fostering with us is right for you\, your family\, and your support network.
URL:https://co4kids.org/info-sessions/collaborative-foster-care-jefferson-arapahoe-and-douglas-counties-3/
CATEGORIES:Central
ATTACH;FMTTYPE=image/png:https://co4kids.org/wp-content/uploads/2026/04/Pastel-Popsicles-Dessert-Party-Facebook-Cover-1-3.png
ORGANIZER;CN="Collaborative Foster Care Program":MAILTO:cfcp@arapahoegov.com
END:VEVENT
BEGIN:VEVENT
DTSTART;TZID=America/Denver:20260616T120000
DTEND;TZID=America/Denver:20260616T130000
DTSTAMP:20260423T130257
CREATED:20260218T173209Z
LAST-MODIFIED:20260218T173209Z
UID:366905-1781611200-1781614800@co4kids.org
SUMMARY:Virtual Lunch and Learn Foster Information Session
DESCRIPTION:Grab your lunch and join us for a relaxed Virtual Lunch and Learn where we’ll explore the rewarding journey of becoming a foster parent or foster-to-adopt parent. \nWhether you’re ready to take the next step or simply curious\, this is a great opportunity to learn who we are\, discover the steps to getting licensed\, explore the different ways you can make a difference\, and get answers to your questions in a casual\, welcoming space. \nNo pressure! Just good conversation\, helpful info\, and an opportunity to make a difference in a child’s life. We’d love to see you there!\n#StartTheJourney #FosterTheFuture #TogetherForChildren
URL:https://co4kids.org/info-sessions/virtual-lunch-and-learn-foster-information-session-41/
CATEGORIES:Central,Northern,Northwest,Southeast,Southern,Southwest
ATTACH;FMTTYPE=image/png:https://co4kids.org/wp-content/uploads/2026/02/Untitled-design-9.png
ORGANIZER;CN="Lindsey Armstrong":MAILTO:lindsey@anewworldcpa.org
END:VEVENT
BEGIN:VEVENT
DTSTART;TZID=America/Denver:20260623T120000
DTEND;TZID=America/Denver:20260623T130000
DTSTAMP:20260423T130257
CREATED:20260218T173240Z
LAST-MODIFIED:20260218T173240Z
UID:366910-1782216000-1782219600@co4kids.org
SUMMARY:Virtual Lunch and Learn Foster Information Session
DESCRIPTION:Grab your lunch and join us for a relaxed Virtual Lunch and Learn where we’ll explore the rewarding journey of becoming a foster parent or foster-to-adopt parent. \nWhether you’re ready to take the next step or simply curious\, this is a great opportunity to learn who we are\, discover the steps to getting licensed\, explore the different ways you can make a difference\, and get answers to your questions in a casual\, welcoming space. \nNo pressure! Just good conversation\, helpful info\, and an opportunity to make a difference in a child’s life. We’d love to see you there!\n#StartTheJourney #FosterTheFuture #TogetherForChildren
URL:https://co4kids.org/info-sessions/virtual-lunch-and-learn-foster-information-session-42/
CATEGORIES:Central,Northern,Northwest,Southeast,Southern,Southwest
ATTACH;FMTTYPE=image/png:https://co4kids.org/wp-content/uploads/2026/02/Untitled-design-10.png
ORGANIZER;CN="Lindsey Armstrong":MAILTO:lindsey@anewworldcpa.org
END:VEVENT
BEGIN:VEVENT
DTSTART;TZID=America/Denver:20260630T120000
DTEND;TZID=America/Denver:20260630T130000
DTSTAMP:20260423T130257
CREATED:20260218T173301Z
LAST-MODIFIED:20260218T173301Z
UID:366919-1782820800-1782824400@co4kids.org
SUMMARY:Virtual Lunch and Learn Foster Information Session
DESCRIPTION:Grab your lunch and join us for a relaxed Virtual Lunch and Learn where we’ll explore the rewarding journey of becoming a foster parent or foster-to-adopt parent. \nWhether you’re ready to take the next step or simply curious\, this is a great opportunity to learn who we are\, discover the steps to getting licensed\, explore the different ways you can make a difference\, and get answers to your questions in a casual\, welcoming space. \nNo pressure! Just good conversation\, helpful info\, and an opportunity to make a difference in a child’s life. We’d love to see you there!\n#StartTheJourney #FosterTheFuture #TogetherForChildren
URL:https://co4kids.org/info-sessions/virtual-lunch-and-learn-foster-information-session-43/
CATEGORIES:Central,Northern,Northwest,Southeast,Southern,Southwest
ATTACH;FMTTYPE=image/png:https://co4kids.org/wp-content/uploads/2026/02/Untitled-design-11.png
ORGANIZER;CN="Lindsey Armstrong":MAILTO:lindsey@anewworldcpa.org
END:VEVENT
BEGIN:VEVENT
DTSTART;TZID=America/Denver:20260630T120000
DTEND;TZID=America/Denver:20260630T130000
DTSTAMP:20260423T130257
CREATED:20260218T173322Z
LAST-MODIFIED:20260218T173322Z
UID:366924-1782820800-1782824400@co4kids.org
SUMMARY:Virtual Lunch and Learn Foster Information Session
DESCRIPTION:Grab your lunch and join us for a relaxed Virtual Lunch and Learn where we’ll explore the rewarding journey of becoming a foster parent or foster-to-adopt parent. \nWhether you’re ready to take the next step or simply curious\, this is a great opportunity to learn who we are\, discover the steps to getting licensed\, explore the different ways you can make a difference\, and get answers to your questions in a casual\, welcoming space. \nNo pressure! Just good conversation\, helpful info\, and an opportunity to make a difference in a child’s life. We’d love to see you there!\n#StartTheJourney #FosterTheFuture #TogetherForChildren
URL:https://co4kids.org/info-sessions/virtual-lunch-and-learn-foster-information-session-44/
CATEGORIES:Central,Northern,Northwest,Southeast,Southern,Southwest
ATTACH;FMTTYPE=image/png:https://co4kids.org/wp-content/uploads/2026/02/Untitled-design-12.png
ORGANIZER;CN="Lindsey Armstrong":MAILTO:lindsey@anewworldcpa.org
END:VEVENT
END:VCALENDAR